BEGIN:VCALENDAR
VERSION:2.0
PRODID:-//Diverse Options : Building Skills, Confidence &amp; Community in Ripon, WI - ECPv6.15.14//NONSGML v1.0//EN
CALSCALE:GREGORIAN
METHOD:PUBLISH
X-WR-CALNAME:Diverse Options : Building Skills, Confidence &amp; Community in Ripon, WI
X-ORIGINAL-URL:https://www.diverseoptions.org
X-WR-CALDESC:Events for Diverse Options : Building Skills, Confidence &amp; Community in Ripon, WI
REFRESH-INTERVAL;VALUE=DURATION:PT1H
X-Robots-Tag:noindex
X-PUBLISHED-TTL:PT1H
BEGIN:VTIMEZONE
TZID:America/Chicago
BEGIN:DAYLIGHT
TZOFFSETFROM:-0600
TZOFFSETTO:-0500
TZNAME:CDT
DTSTART:20240310T080000
END:DAYLIGHT
BEGIN:STANDARD
TZOFFSETFROM:-0500
TZOFFSETTO:-0600
TZNAME:CST
DTSTART:20241103T070000
END:STANDARD
BEGIN:DAYLIGHT
TZOFFSETFROM:-0600
TZOFFSETTO:-0500
TZNAME:CDT
DTSTART:20250309T080000
END:DAYLIGHT
BEGIN:STANDARD
TZOFFSETFROM:-0500
TZOFFSETTO:-0600
TZNAME:CST
DTSTART:20251102T070000
END:STANDARD
BEGIN:DAYLIGHT
TZOFFSETFROM:-0600
TZOFFSETTO:-0500
TZNAME:CDT
DTSTART:20260308T080000
END:DAYLIGHT
BEGIN:STANDARD
TZOFFSETFROM:-0500
TZOFFSETTO:-0600
TZNAME:CST
DTSTART:20261101T070000
END:STANDARD
END:VTIMEZONE
BEGIN:VEVENT
DTSTART;TZID=America/Chicago:20251115T090000
DTEND;TZID=America/Chicago:20251115T150000
DTSTAMP:20260421T060942
CREATED:20251103T151843Z
LAST-MODIFIED:20251103T151843Z
UID:429-1763197200-1763218800@www.diverseoptions.org
SUMMARY:1st Annual Craft Fair
DESCRIPTION:Over 30 Local Artisans! Unique Seasonal Decor\, Crochet Items & Gifts\, Herbal Teas\, Baked Goods\, Dog Treats\, Silverware Crafts\, Air Fresheners\, Book Art\, Wood Crafts\, Refurbished Dolls & Clothing\, Diamond Art\, Tallow Products\, and so much more!! \nBreakfast & Lunch Concessions Available 9am – 2pm \nFREE ADMISSION
URL:https://www.diverseoptions.org/event/1st-annual-craft-fair/
LOCATION:Diverse Options\, 571 Fenton St\, Ripon\, WI\, 54971\, United States
CATEGORIES:Public Events / Fundraisers
ORGANIZER;CN="Diverse Options":MAILTO:info@diverseoptions.org
END:VEVENT
BEGIN:VEVENT
DTSTART;TZID=America/Chicago:20251108T100000
DTEND;TZID=America/Chicago:20251108T150000
DTSTAMP:20260421T060942
CREATED:20251006T160339Z
LAST-MODIFIED:20251006T160654Z
UID:188-1762596000-1762614000@www.diverseoptions.org
SUMMARY:Fundraiser at Samantha James Boutique
DESCRIPTION:Come shop at the boutique on November 8th 10am-3pm and 20% of all the proceeds will go to Diverse Options!
URL:https://www.diverseoptions.org/event/fundraiser-at-samantha-james-boutique/
LOCATION:Samantha James Boutique\, 321 Watson St\, Ripon\, WI\, 54971\, United States
CATEGORIES:Public Events / Fundraisers
END:VEVENT
BEGIN:VEVENT
DTSTART;TZID=America/Chicago:20251023T170000
DTEND;TZID=America/Chicago:20251023T200000
DTSTAMP:20260421T060942
CREATED:20251006T155710Z
LAST-MODIFIED:20251008T204145Z
UID:179-1761238800-1761249600@www.diverseoptions.org
SUMMARY:D.O.'s Got Talent 2
DESCRIPTION:🎉 Excitement is in the air! Diverse Options Inc’s 2nd annual fundraising event\, DO’s Got Talent 2! is coming soon. It’s an event like no other\, and we want you to be there October 23rd at 5:00-8:00pm. \nPurchase your tickets or become a sponsor for at this link ! –> https://www.zeffy.com/en-US/ticketing/dos-got-talent–2\n  \nCan’t wait to see you there !
URL:https://www.diverseoptions.org/event/d-o-s-got-talent-2/
LOCATION:Immanuel United Methodist Church\, 401 W Fond Du Lac St\, Ripon\, WI\, 54971\, United States
CATEGORIES:Public Events / Fundraisers
END:VEVENT
BEGIN:VEVENT
DTSTART;TZID=America/Chicago:20251003T170000
DTEND;TZID=America/Chicago:20251003T210000
DTSTAMP:20260421T060942
CREATED:20251006T155515Z
LAST-MODIFIED:20251006T155530Z
UID:177-1759510800-1759525200@www.diverseoptions.org
SUMMARY:Celebrate Karen's Birthday
DESCRIPTION:Come join us to celebrate Karen’s birthday – Karen is a DO Board Member and this event is also a fundraiser to benefit DO
URL:https://www.diverseoptions.org/event/celebrate-karens-birthday/
LOCATION:Knuth Brewing Company\, 230 Watson St\, Ripon\, WI\, 54971\, United States
CATEGORIES:Public Events / Fundraisers
END:VEVENT
BEGIN:VEVENT
DTSTART;TZID=America/Chicago:20251001T080000
DTEND;TZID=America/Chicago:20251015T170000
DTSTAMP:20260421T060942
CREATED:20251006T143953Z
LAST-MODIFIED:20251006T160714Z
UID:172-1759305600-1760547600@www.diverseoptions.org
SUMMARY:Rooster Roundup to Support Diverse Options
DESCRIPTION:Shop at Crossroads between Oct 1st-15th and round up your total to the next dollar\, all proceeds go to Diverse Options!
URL:https://www.diverseoptions.org/event/rooster-roundup-to-support-diverse-options/
LOCATION:Crossroads Market\, 762 Commercial Ave\, Green Lake\, WI\, 54941\, United States
CATEGORIES:Public Events / Fundraisers
ORGANIZER;CN="Diverse Options":MAILTO:info@diverseoptions.org
END:VEVENT
END:VCALENDAR